BEGIN:VCALENDAR
VERSION:2.0
PRODID:-//Hits 100.7 FM - ECPv4.6.26//NONSGML v1.0//EN
CALSCALE:GREGORIAN
METHOD:PUBLISH
X-WR-CALNAME:Hits 100.7 FM
X-ORIGINAL-URL:https://hits100fm.ca
X-WR-CALDESC:Events for Hits 100.7 FM
BEGIN:VEVENT
DTSTART;TZID=America/Halifax:20250628T080000
DTEND;TZID=America/Halifax:20250628T170000
DTSTAMP:20260423T183450
CREATED:20250520T114250Z
LAST-MODIFIED:20250520T114501Z
UID:20324-1751097600-1751130000@hits100fm.ca
SUMMARY:Annual Mi’kma’ki Fundraiser Golf Commitee
DESCRIPTION:Annual Mi’kma’ki Fundraiser Golf Commitee . We are hosting our annual golf tournament on June 28th\, 2025 at Restigouche Golf Club Proceeds of the tournament will send 30 Mi’kmaw youth on an unforgettable trip to play hockey at the Bell Centre in Montreal — the home of the Montreal Canadiens — and experience a live NHL game! \n. If you have any questions or concerns please contact John Martin at 506-987-0046 or by email at johnlisty80@gmail.com \n
URL:https://hits100fm.ca/event/annual-mikmaki-fundraiser-golf-commitee/
LOCATION:Restigouche Golf and country Club
ORGANIZER;CN="Mi%E2%80%99kma%E2%80%99ki%20Fundraiser%20Golf%20Commitee":MAILTO:johnlisty80@gmail.com
END:VEVENT
END:VCALENDAR