BEGIN:VCALENDAR
VERSION:2.0
PRODID:-//Hits 100.7 FM - ECPv4.6.26//NONSGML v1.0//EN
CALSCALE:GREGORIAN
METHOD:PUBLISH
X-WR-CALNAME:Hits 100.7 FM
X-ORIGINAL-URL:https://hits100fm.ca
X-WR-CALDESC:Events for Hits 100.7 FM
BEGIN:VEVENT
DTSTART;TZID=America/Halifax:20240922T140000
DTEND;TZID=America/Halifax:20240922T160000
DTSTAMP:20260422T114529
CREATED:20240917T120450Z
LAST-MODIFIED:20240918T162610Z
UID:19669-1727013600-1727020800@hits100fm.ca
SUMMARY:Hits 100 municipality Week
DESCRIPTION:Come celebrate municipal week with us for community day on Sunday September 22nd from 2pm till 4pm at Reunion Park\, Miller street at the entrance to Galerie Restigouche. \nSome of the exciting activities for all ages are\, Crafts\, Popcorn\, Hot Dogs\, Cake\, Music and inflatable game. \nEveryone is welcome \n
URL:https://hits100fm.ca/event/hits-100-municipality-week/
LOCATION:Reunion Park\, 39 Andrew Street\, Campbellton
CATEGORIES:Community Events
ATTACH;FMTTYPE=image/jpeg:https://hits100fm.ca/wp-content/uploads/sites/25/2024/09/community-day.jpg
END:VEVENT
END:VCALENDAR