BEGIN:VCALENDAR
VERSION:2.0
PRODID:-//Hits 100.7 FM - ECPv4.6.26//NONSGML v1.0//EN
CALSCALE:GREGORIAN
METHOD:PUBLISH
X-WR-CALNAME:Hits 100.7 FM
X-ORIGINAL-URL:https://hits100fm.ca
X-WR-CALDESC:Events for Hits 100.7 FM
BEGIN:VEVENT
DTSTART;TZID=America/Halifax:20251128T190000
DTEND;TZID=America/Halifax:20251128T220000
DTSTAMP:20260421T102744
CREATED:20251118T204853Z
LAST-MODIFIED:20251118T204853Z
UID:20694-1764356400-1764367200@hits100fm.ca
SUMMARY:Restigouche Chamber of Commerce Masquerade Ball
DESCRIPTION:BIG NEWS!!! \n  \n1st Annual Silver & Gold Masquerade Ball! \n  \nJoin us for an unforgettable evening hosted by the Restigouche Chamber of Commerce! \nFriday\, November 28th \nQuality Hotel Conference Room \n7:00 PM – 10:00 PM \n  \nTickets: \n$60 each or 2 for $100 \nIncludes: 1 free cotton candy\, 1 complimentary “Artisan” drink\, and finger foods! \n  \nSemi-formal attire | Masks are a must! \nPrizes for Most Creative Mask & Most Elegant Mask — so get fancy and have fun! \n  \nHITS 100 FM will be on location with their 360° Photo Booth! \n  \nWe are also encouraging attendees to bring a new toy to donate towards Jaden’s Angels and help brighten a child’s holiday season. \nGet your tickets today: \n  \nEmail: direction@chambrerestigouchechamber.com \nE-transfer to the same email or pay by credit card: \nSingle Ticket ($60) https://ca.social-commerce.io/mUZuSR \nCouple Ticket ($100) https://ca.social-commerce.io/KelQvM \n__________________________________ \nCher Membres\, \n  \nGrande nouvelle! \n  \n1er Bal Masqué Argent et Or! \n  \nJoignez-vous à nous pour une soirée inoubliable organisée par la Chambre de commerce Restigouche! \nVendredi 28 novembre \nSalle de conférence de l’Hôtel Quality Inn \nDe 19 h à 22 h \n  \nBillets : \n60 $ chacun ou 2 pour 100 $ \nComprend : 1 barbe à papa gratuite\, 1 boisson “Artisan” gratuite et des amuse-bouches! \n  \nTenue semi-formelle | Le port du masque est obligatoire! \nPrix pour le masque le plus créatif et le masque le plus élégant — amusez-vous et laissez briller votre imagination! \n  \nHITS 100 FM sera sur place avec leur photobooth 360°! \n  \nNous invitons également les participants à apporter un jouet neuf à remettre à Jaden’s Angels\, afin d’illuminer le temps des Fêtes d’un enfant dans le besoin. \nProcurez-vous vos billets dès maintenant : \n  \nCourriel : direction@chambrerestigouchechamber.com \nVirement Interac au même courriel ou paiement par carte de crédit : \nBillet simple (60 $) https://ca.social-commerce.io/mUZuSR \nBillet pour deux (100 $) https://ca.social-commerce.io/KelQvM \n  \nThank you!     Merci!     Wela’lin! \nTyler Richard (il/he/him) \n
URL:https://hits100fm.ca/event/restigouche-chamber-of-commerce-masquerade-ball/
ATTACH;FMTTYPE=image/jpeg:https://hits100fm.ca/wp-content/uploads/sites/25/2025/11/Chamber-ball.jpg
END:VEVENT
END:VCALENDAR